BEGIN:VCALENDAR
VERSION:2.0
PRODID:-//Grow Together - ECPv6.13.2.1//NONSGML v1.0//EN
CALSCALE:GREGORIAN
METHOD:PUBLISH
X-WR-CALNAME:Grow Together
X-ORIGINAL-URL:https://www.growtogetherberks.com
X-WR-CALDESC:Events for Grow Together
REFRESH-INTERVAL;VALUE=DURATION:PT1H
X-Robots-Tag:noindex
X-PUBLISHED-TTL:PT1H
BEGIN:VTIMEZONE
TZID:America/New_York
BEGIN:DAYLIGHT
TZOFFSETFROM:-0500
TZOFFSETTO:-0400
TZNAME:EDT
DTSTART:20240310T070000
END:DAYLIGHT
BEGIN:STANDARD
TZOFFSETFROM:-0400
TZOFFSETTO:-0500
TZNAME:EST
DTSTART:20241103T060000
END:STANDARD
BEGIN:DAYLIGHT
TZOFFSETFROM:-0500
TZOFFSETTO:-0400
TZNAME:EDT
DTSTART:20250309T070000
END:DAYLIGHT
BEGIN:STANDARD
TZOFFSETFROM:-0400
TZOFFSETTO:-0500
TZNAME:EST
DTSTART:20251102T060000
END:STANDARD
END:VTIMEZONE
BEGIN:VEVENT
DTSTART;TZID=America/New_York:20251011T110000
DTEND;TZID=America/New_York:20251011T193000
DTSTAMP:20260421T043321
CREATED:20250819T115211Z
LAST-MODIFIED:20250819T115211Z
UID:10002581-1760180400-1760211000@www.growtogetherberks.com
SUMMARY:Hamburg Grange #2103 All You Can Eat Buffet
DESCRIPTION:All You Can Eat Buffet at Backwoods Brothers to benefit the Hamburg Grange
URL:https://www.growtogetherberks.com/event/hamburg-grange-2103-all-you-can-eat-buffet/
LOCATION:Backwoods Brothers Authentic Texas Cuisine\, 277 S 4th Street\, Hamburg\, PA\, 19526\, United States
ATTACH;FMTTYPE=image/jpeg:https://www.growtogetherberks.com/wp-content/uploads/2025/08/534428669_794412929928965_5535048900196741121_n.jpg
ORGANIZER;CN="Hamburg Grange":MAILTO:hamburggrange2103@gmail.com
END:VEVENT
BEGIN:VEVENT
DTSTART;TZID=America/New_York:20241012T160000
DTEND;TZID=America/New_York:20241012T190000
DTSTAMP:20260421T043321
CREATED:20240913T120503Z
LAST-MODIFIED:20240913T120503Z
UID:10001701-1728748800-1728759600@www.growtogetherberks.com
SUMMARY:AYCE Pot Pie Dinner at the Hamburg Grange
DESCRIPTION:We will be having another pot pie supper. Veterans and active duty military will be able to get a free meal or free takeout with ID.
URL:https://www.growtogetherberks.com/event/ayce-pot-pie-dinner-at-the-hamburg-grange/
LOCATION:Hamburg Area High School\, 701 Windsor Street\, Hamburg\, PA\, 19526\, United States
ATTACH;FMTTYPE=image/jpeg:https://www.growtogetherberks.com/wp-content/uploads/2024/09/hamburg-grange.jpg
ORGANIZER;CN="Hamburg Grange":MAILTO:hamburggrange2103@gmail.com
END:VEVENT
END:VCALENDAR