BEGIN:VCALENDAR
VERSION:2.0
PRODID:-//Grow Together - ECPv6.13.2.1//NONSGML v1.0//EN
CALSCALE:GREGORIAN
METHOD:PUBLISH
X-ORIGINAL-URL:https://www.growtogetherberks.com
X-WR-CALDESC:Events for Grow Together
REFRESH-INTERVAL;VALUE=DURATION:PT1H
X-Robots-Tag:noindex
X-PUBLISHED-TTL:PT1H
BEGIN:VTIMEZONE
TZID:America/New_York
BEGIN:DAYLIGHT
TZOFFSETFROM:-0500
TZOFFSETTO:-0400
TZNAME:EDT
DTSTART:20230312T070000
END:DAYLIGHT
BEGIN:STANDARD
TZOFFSETFROM:-0400
TZOFFSETTO:-0500
TZNAME:EST
DTSTART:20231105T060000
END:STANDARD
END:VTIMEZONE
BEGIN:VEVENT
DTSTART;TZID=America/New_York:20230406T180000
DTEND;TZID=America/New_York:20230406T200000
DTSTAMP:20260421T184400
CREATED:20230301T200505Z
LAST-MODIFIED:20230301T200505Z
UID:10000074-1680804000-1680811200@www.growtogetherberks.com
SUMMARY:Living on a Few Acres: Maple Syrup Production and Beekeeping\, Webinar
DESCRIPTION:Join Extension Specialists for the Living on a Few Acres webinar series\, and learn the fundamental information you need to start beekeeping and the production of maple syrup! \nWhen:\nThu.\, Apr. 6\, 2023\n(6:00 PM – 8:00 PM ET) \nRegistration deadline: April 6\, 2023\, 8:00 p.m.\nThe Living on a Few Acres: Maple Syrup Production and Beekeeping Webinar will discuss the basic information you need to begin producing maple syrup and extracting honey. Join us to learn the new techniques and skills you will need to get started! About the Series Living on a Few Acres is a webinar series developed for the Beginning producer or homesteader who is looking to become more self-sufficient or take the first step in producing a product. These two-hour programs are designed to explain the very basic information on how to get started but provide resources with more advanced information as you continue pursuing your goal or hobby. In 2023\, Living on a Few Acres will be split into a spring & fall series. Topics in the spring include beekeeping\, syrup making\, soil fertility\, vegetable gardening\, tree and small fruit production\, home food preservation\, backyard greenhouses\, and hydroponic production. In the fall\, we will return to discuss animal husbandry and home butchering. \nAbout the Series \nLiving on a Few Acres is a webinar series developed for the beginning producer or homesteader looking to become more self-sufficient or take the first step in producing a product. These programs are designed to explain the very basic information on how to get started but provide resources with more advanced information as you continue pursuing your goal or hobby. Topics for the series include beekeeping\, syrup making\, soil fertility\, vegetable gardening\, tree and small fruit production\, home food preservation\, backyard greenhouses\, and hydroponic production. \nRegistration is required to receive the link to access the webinar.\nRegistrants will also receive access to the webinar recording. \nWho is this for? \n\nBeginning producers or homesteaders\nThose looking to become more self-sufficient in producing a product\n\nWhat will you learn? \n\nBasics of maple syrup production\nManaging a bee colony and equipment\nHoney production\, processing\, and pollination
URL:https://www.growtogetherberks.com/event/living-on-a-few-acres-maple-syrup-production-and-beekeeping-webinar/
LOCATION:Virtual
ATTACH;FMTTYPE=image/png:https://www.growtogetherberks.com/wp-content/uploads/2023/03/bee.png
END:VEVENT
BEGIN:VEVENT
DTSTART;TZID=America/New_York:20230403T120000
DTEND;TZID=America/New_York:20230403T130000
DTSTAMP:20260421T184400
CREATED:20230322T144241Z
LAST-MODIFIED:20230322T144241Z
UID:10000099-1680523200-1680526800@www.growtogetherberks.com
SUMMARY:Low Infrastructure Agritourism: Picnicking and Walking Trails
DESCRIPTION:Do your visitors oooh and ahh over the views or the tranquility of your farm? Have you ever considered opening certain areas of your farm to the public to enjoy for greater appreciation of agriculture and nature? Join us for Low Infrastructure Agritourism: Picnicking and Walking Trails to learn more! Continuing our low infrastructure agritourism education series\, this webinar will give you information about developing walking trails and offering picnic opportunities on your farm using what you have available. Join our speakers\, who will share their experiences with picnicking and walking trails on the farm. \nWhen: Mon.\, Apr. 3\, 2023 (Noon – 1 p.m. ET) \nFormat: Live Online via Zoom \nVera Simon-Nobes is the Coordinator of the Farm-Based Education Network / Vermont Farms Agritourism Project at Shelburne Farms in Vermont. Janis Reinke is the co-owner of Frog Hollow Farmstead\, also in Vermont\, where she grows heirloom produce and heritage breed animals. Finally\, Rick Kralj\, Penn State Extension Educator will discuss food safety considerations. \nWho is this for? \nFarms and agritourism businesses that want to explore adding walking trails and offering picnicking opportunities on their farm for public enjoyment. \nWhat will you learn? \n\nWhat to consider when adding developing walking trails on your farm\nWhat to consider when offering picnicking opportunities to the public\nFood safety considerations and regulations\n\nThis event developed in collaboration with the University of Vermont Extension. This material is based upon work supported by USDA/NIFA under Award Number 2021‐70027‐34693. \nThis event is being offered at no charge to participants. \nRegistration is required to receive the link to access the webinar. \nRegistrants will also receive access to the webinar recording. \nRegistration Deadline: April 3\, 2023 1 p.m. EST
URL:https://www.growtogetherberks.com/event/low-infrastructure-agritourism-picnicking-and-walking-trails/
LOCATION:Online\, United States
ATTACH;FMTTYPE=image/png:https://www.growtogetherberks.com/wp-content/uploads/2023/03/Low-.png
END:VEVENT
BEGIN:VEVENT
DTSTART;TZID=America/New_York:20230330T180000
DTEND;TZID=America/New_York:20230330T200000
DTSTAMP:20260421T184400
CREATED:20230301T200413Z
LAST-MODIFIED:20230301T200413Z
UID:10000073-1680199200-1680206400@www.growtogetherberks.com
SUMMARY:Living on a Few Acres: Tree and Small Fruit Production\, Webinar
DESCRIPTION:This event is perfect for anyone with existing trees\, berry plants or looking to start a small orchard or patch. We cover the most basic concepts\, and before you know it\, you will have a fruit harvest from your acreages or backyard. \nWhen:\nThu.\, Mar. 30\, 2023\n(6:00 PM – 8:00 PM ET) \nRegistration deadline: March 30\, 2023\,  8:00 p.m. \nLiving on a Few Acres: Tree and Small Fruit Production is perfect for anyone who has a couple of existing trees or berry plants or is looking to start a small orchard or patch of their own. The presenters will start you off with the most basic concepts\, and before you know it\, you will enjoy a fruit harvest from your own acreages or backyard. \nAbout the Series\nLiving on a Few Acres is a webinar series developed for the beginning producer or homesteader looking to become more self-sufficient or take the first step in producing a product. These programs are designed to explain the very basic information on how to get started but provide resources with more advanced information as you continue pursuing your goal or hobby. Topics for the series include beekeeping\, syrup making\, soil fertility\, vegetable gardening\, tree and small fruit production\, home food preservation\, backyard greenhouses\, and hydroponic production. \nRegistration is required to receive the link to access the webinar. Registrants will also receive access to the webinar recording. \nWho is this for? \n\nBeginning producers or homesteaders\nThose looking to become more self-sufficient in producing tree fruit or small fruit\n\nWhat will you learn? \n\nBasics of tree fruit production\nSelecting tree fruit varieties and planting trees\nCultural needs and production methods of small fruit crops
URL:https://www.growtogetherberks.com/event/living-on-a-few-acres-tree-and-small-fruit-production-webinar/
LOCATION:Virtual
ATTACH;FMTTYPE=image/png:https://www.growtogetherberks.com/wp-content/uploads/2023/03/Fruit.png
END:VEVENT
BEGIN:VEVENT
DTSTART;TZID=America/New_York:20230328T183000
DTEND;TZID=America/New_York:20230328T203000
DTSTAMP:20260421T184400
CREATED:20230302T143902Z
LAST-MODIFIED:20230302T143902Z
UID:10000076-1680028200-1680035400@www.growtogetherberks.com
SUMMARY:A Do-it-yourself Guide: Converting Your Lawn to a Meadow\, Webinar
DESCRIPTION:This webinar series will guide you through converting a small lawn area into a meadow! Each webinar will cover part of the process\, from determining if a meadow is right for you to troubleshooting your newly planted meadow and more! \nWhen:\nTuesdays\, March 28 – April 11\, 2023\, from 6:30 p.m. – 8:30 p.m.\nRegistration deadline:\nMarch 24\, 2023 by 11:59 p.m. \nAre you tired of your lawn and looking for something new? A Do-it-yourself Guide: Converting Your Lawn to a Meadow will guide you through converting a small lawn area into a meadow. Each session will cover a portion of the process\, from deciding if a meadow is suitable for you to troubleshooting your newly planted meadow and all of the steps in between. \nSpeaker Ryan Davis of the Alliance for the Chesapeake Bay will present the new DIY Meadow Conversion guide produced by the Pennsylvania Lawn Conversion Program at the Pennsylvania Department of Conservation and Natural Resources. \nRegistration is required to receive the link to access the webinar. Registrants will also receive access to the webinar recording. \nWho is this for? \n\nHomeowners with a small lawn\nCurious about their alternatives\nLand managers looking for support for small meadow projects\nAnyone interested in small meadows\nWhat will you learn?\nWhy you might convert your lawn into a meadow\nHow to determine if a meadow is suitable for your site\nHow to prepare for a meadow planting project\nHow to plant a meadow in a former turf grass location\nHow to maintain and troubleshoot a newly planted meadow
URL:https://www.growtogetherberks.com/event/a-do-it-yourself-guide-converting-your-lawn-to-a-meadow-webinar/
LOCATION:Virtual
ATTACH;FMTTYPE=image/png:https://www.growtogetherberks.com/wp-content/uploads/2023/03/lawn-to-meadow.png
END:VEVENT
BEGIN:VEVENT
DTSTART;TZID=America/New_York:20230324T100000
DTEND;TZID=America/New_York:20230324T160000
DTSTAMP:20260421T184400
CREATED:20230307T172908Z
LAST-MODIFIED:20230307T172908Z
UID:10000081-1679652000-1679673600@www.growtogetherberks.com
SUMMARY:Farmers Market Managers Conference
DESCRIPTION:Learn from fellow market managers\, and gain the skills to enhance and improve your farmers market during the annual Farmers Market Managers Conference! Managers will understand vital information about operating a farmers market\, including market safety\, information on quality vendor meetings\, licensing\, and more! \nWhen\nFri.\, Mar. 24\, 2023\n(10:00 AM – 4:00 PM ET) \n  \nAttend in-person or virtually! \nIn-Person Experience\nChester County Economic Development Council\n737 Constitution Dr.\nExton\, PA 19341 \nVirtual Experience\nLive\nvia Zoom \nWho is this for? \nThis event is for managers of open-air community farmer’s markets. \nWhat will you learn? \n\nResults from the market data project USDA\nPilot program for collecting market pricing information\nMarket safety\nHosting quality vendor meetings\nSeven essential skills of a market manager\nLicensing and regulatory updates\n\nRegistration is required to receive the access link for the virtual experience and recording(s). \nRegistration Deadline \nMarch 23\, 202311:59 PM
URL:https://www.growtogetherberks.com/event/farmers-market-managers-conference/
LOCATION:Chester County Economic Development Council\, 737 Constitution Dr\, Exton\, PA\, 19341\, United States
ATTACH;FMTTYPE=image/png:https://www.growtogetherberks.com/wp-content/uploads/2023/03/Farmers-Market-Managers-Conference.png
END:VEVENT
BEGIN:VEVENT
DTSTART;TZID=America/New_York:20230323T180000
DTEND;TZID=America/New_York:20230323T200000
DTSTAMP:20260421T184400
CREATED:20230301T200323Z
LAST-MODIFIED:20230301T200323Z
UID:10000072-1679594400-1679601600@www.growtogetherberks.com
SUMMARY:Living on a Few Acres: Greenhouse and Hydroponic Production\, Webinar
DESCRIPTION:Covered will be greenhouse fundamentals and the basics of hydroponic vegetable production. We recommend this event for anyone who wants to explore whether growing hydroponic vegetables and adding a greenhouse is right for them. \nWhen:\nThu.\, Mar. 23\, 2023\n(6:00 PM – 8:00 PM ET) \nRegistration deadline: March 23\, 2023\, 8:00 p.m. \nDuring Living on a Few Acres: Greenhouse and Hydroponic Production\, the speakers will discuss greenhouse fundamentals and the basics of hydroponic vegetable production. This event is for people exploring whether adding a greenhouse to their operation or starting to grow vegetables hydroponically makes sense for them. \nAbout the Series\nLiving on a Few Acres is a webinar series developed for the beginning producer or homesteader looking to become more self-sufficient or take the first step in producing a product. These programs are designed to explain the very basic information on how to get started but provide resources with more advanced information as you continue pursuing your goal or hobby. Topics for the series include beekeeping\, syrup making\, soil fertility\, vegetable gardening\, tree and small fruit production\, home food preservation\, backyard greenhouses\, and hydroponic production. \nRegistration is required to receive the link to access the webinar. Registrants will also receive access to the webinar recording. \nWho is this for? \n\nBeginning producers or homesteaders\nThose looking to become more self-sufficient in producing a crop\n\nWhat will you learn? \n\nIntroduction to backyard greenhouses\nIntroduction to growing vegetables hydroponically
URL:https://www.growtogetherberks.com/event/living-on-a-few-acres-greenhouse-and-hydroponic-production-webinar/
LOCATION:Virtual
ATTACH;FMTTYPE=image/png:https://www.growtogetherberks.com/wp-content/uploads/2023/03/Greenhouse.png
END:VEVENT
BEGIN:VEVENT
DTSTART;TZID=America/New_York:20230316T180000
DTEND;TZID=America/New_York:20230316T180000
DTSTAMP:20260421T184400
CREATED:20230301T195440Z
LAST-MODIFIED:20230301T195440Z
UID:10000071-1678989600-1678989600@www.growtogetherberks.com
SUMMARY:Living on a Few Acres: Vegetable and Mushroom Production\, Webinar
DESCRIPTION:Take a basic look at numerous methods and techniques in the vegetable and mushroom production world. There will be multiple opportunities for diversifying your knowledge and skills in vegetable and mushroom production. \nWhen:\nThu.\, Mar. 16\, 2023\n(6:00 PM – 8:00 PM ET)\nRegistration deadline: March 16\, 2023\, 8:00 p.m. \nLiving on a Few Acres: Vegetable and Mushroom Production is a basic look at multiple techniques and strategies in the vegetable and mushroom production world. This program will be divided into three sections\, giving you multiple opportunities to diversify your vegetable and mushroom production knowledge and skills. \nWho is this for? \n\nBeginning producers or homesteaders\nThose looking to become more self-sufficient in producing a crop\n\nWhat will you learn? \n\nIntroduction to growing vegetables\nIntroduction to growing mushrooms\nUsing cover crops in the home garden
URL:https://www.growtogetherberks.com/event/living-on-a-few-acres-vegetable-and-mushroom-production-webinar/
LOCATION:Virtual
ATTACH;FMTTYPE=image/png:https://www.growtogetherberks.com/wp-content/uploads/2023/03/mushroom.png
END:VEVENT
BEGIN:VEVENT
DTSTART;TZID=America/New_York:20230316T030000
DTEND;TZID=America/New_York:20230316T030000
DTSTAMP:20260421T184400
CREATED:20230301T163534Z
LAST-MODIFIED:20230301T163534Z
UID:10000065-1678935600-1678935600@www.growtogetherberks.com
SUMMARY:Spanish for Poultry Professionals
DESCRIPTION:Learn how to communicate effectively with Spanish-speaking coworkers and employees regarding poultry welfare\, biosecurity\, work duties and safety. \nWhen:\nThursdays\n(3 p.m. – 5 p.m. ET)\nMar. 16 – Apr. 13\, 2023 \nWhere:\nPenn State Extension Lebanon County\n2120 Cornwall Rd. #1\nLebanon\, Pennsylvania 17042\nView Map\nRegistration deadline:\nMarch 14\, 2023\n11:59 p.m. \nLearn to communicate more effectively with your Spanish-speaking employees and coworkers in the poultry industry regarding four basic objectives: safety\, work duties\, biosecurity and animal welfare. During Spanish for Poultry Professionals\, create a personalized handbook with keywords and phrases that will be identified. Attendees will also be divided into groups to practice speaking with each other\, including role-playing scenarios that may occur on-farm. \nThis event is being offered at no charge to participants.\nPreregistration is required! \nWho is this for?\nPoultry industry professionals who would like to learn how to more effectively communicate with their Spanish-speaking colleagues and employees (emphasis will be on the poultry industry\, but suitable for other agricultural industry professionals)\nThose with basic to intermediate skills in reading\, writing and speaking Spanish \nWhat will you learn?\nVocabulary and how to communicate regarding: \n\nSafety in the workplace\nPoultry welfare\nBiosecurity\nPoultry anatomy\nPoultry management\, health\, and diseases
URL:https://www.growtogetherberks.com/event/spanish-for-poultry-professionals/2023-03-16/
LOCATION:Penn State Extension (Lebanon)\, 2120 Cornwall Road\, Suite 1\, Lebanon\, PA\, 17042\, United States
ATTACH;FMTTYPE=image/png:https://www.growtogetherberks.com/wp-content/uploads/2023/03/Spanish-Poultry.png
END:VEVENT
BEGIN:VEVENT
DTSTART;TZID=America/New_York:20230314T190000
DTEND;TZID=America/New_York:20230314T200000
DTSTAMP:20260421T184400
CREATED:20230301T190816Z
LAST-MODIFIED:20230301T190834Z
UID:10000066-1678820400-1678824000@www.growtogetherberks.com
SUMMARY:Designing Efficient Feeding and Handling Facilities for Sheep and Goats
DESCRIPTION:Designing efficient feeding and handling systems for sheep and goats can save producers time and decrease feed waste. Designing Efficient Feeding and Handling Facilities for Sheep and Goats will explore recommended feeder sizes and designs that prevent feed waste and allow for efficient time feeding animals. This session will also explain basic handling system design concepts that will allow producers to quickly and efficiently perform management tasks such as sorting\, deworming and vaccinating. \nWhen:\nTue.\, Mar. 14\, 2023\n(7p.m. – 8 p.m. ET) \nFormat\nLive Online\nvia Zoom \nWho is this for? \n\nSheep Producers\nGoat Producers\n\nWhat will you learn? \n\nFeeder sizer recommendations for various sizes or ages\nFeeder designs to prevent waste\nFeeder setup suggestions to facilitate efficient feeding\nHandling system design concepts\n\n  \nThis event is being offered at no charge to participants. \nRegistration is required to receive the link to access the webinar. \nRegistrants will also receive access to the webinar recording. \nRegistration Deadline: March 14\, 2023
URL:https://www.growtogetherberks.com/event/designing-efficient-feeding-and-handling-facilities-for-sheep-and-goats/
LOCATION:Virtual
ATTACH;FMTTYPE=image/png:https://www.growtogetherberks.com/wp-content/uploads/2023/03/Sheep-Feeding.png
END:VEVENT
BEGIN:VEVENT
DTSTART;TZID=America/New_York:20230313T190000
DTEND;TZID=America/New_York:20230313T190000
DTSTAMP:20260421T184400
CREATED:20230301T154941Z
LAST-MODIFIED:20230301T154941Z
UID:10000064-1678734000-1678734000@www.growtogetherberks.com
SUMMARY:Webinar: HPAI Is Still Here: Is It Here to Stay?
DESCRIPTION:Get the latest updates on the Highly Pathogenic Avian Influenza (HPAI)\, how to recognize signs of the disease\, where to seek help\, and what the future brings in poultry. \nHighly Pathogenic Avian Influenza (HPAI) is a major concern for small and commercial poultry flocks in Pennsylvania and throughout North America. The Penn State Extension Poultry Team would like to invite you to attend “HPAI Is Still Here: Is It Here to Stay?” We will discuss HPAI\, the current outbreak situation\, signs of the disease\, where to get help if you suspect sick birds\, and biosecurity measures you can take to protect your flock. \nThis event is being offered at no charge to participants.\nRegistration is required to receive the link to access the webinar.\nRegistrants will also receive access to the webinar recording. \nWho is this for: \n\nSmall Poultry Flock Owners\n4-H Families that raise poultry\nPrivate Practice Veterinarians\n\nWhat will you learn: \n\nWhat is Avian Influenza?\nOverview of the current HPAI situation in Pennsylvania and the United States and the current heightened risk to bird owners\nClinical signs of HPAI – what should bird owners be looking for?\nWho to contact if they have sick/dying birds?\nPractical Biosecurity measures for small poultry flocks\nWhat does the future bring?
URL:https://www.growtogetherberks.com/event/webinar-hpai-is-still-here-is-it-here-to-stay/
LOCATION:Online\, United States
ATTACH;FMTTYPE=image/jpeg:https://www.growtogetherberks.com/wp-content/uploads/2023/03/HPAI.jpg
END:VEVENT
BEGIN:VEVENT
DTSTART;TZID=America/New_York:20230309T180000
DTEND;TZID=America/New_York:20230309T200000
DTSTAMP:20260421T184400
CREATED:20230301T195340Z
LAST-MODIFIED:20230301T195340Z
UID:10000070-1678384800-1678392000@www.growtogetherberks.com
SUMMARY:Living on a Few Acres: Soil Fertility and Garden Layout\, Webinar
DESCRIPTION:This event is designed so you can learn where to plant a garden best for it to thrive! Learn about your soil and know where the most suitable place will be for your garden to succeed for years to come. \nWhen:\nThu.\, Mar. 9\, 2023\n(6:00 PM – 8:00 PM ET) \nRegistration deadline: March 9\, 2023\, 8:00 p.m. \nBefore we plant a garden or a tree\, we must first consider the soil and where we will locate the crop. Living on a Few Acres: Soil Fertility and Garden Layout is designed to help beginning producers understand their soil and know where the best place for their garden to thrive for years to come. \nAbout the Series\nLiving on a Few Acres is a webinar series developed for the beginning producer or homesteader looking to become more self-sufficient or take the first step in producing a product. These programs are designed to explain the very basic information on how to get started but provide resources with more advanced information as you continue pursuing your goal or hobby. Topics for the series include beekeeping\, syrup making\, soil fertility\, vegetable gardening\, tree and small fruit production\, home food preservation\, backyard greenhouses\, and hydroponic production. \nRegistration is required to receive the link to access the webinar. Registrants will also receive access to the webinar recording. \nWho is this for? \n\nBeginning producers or homesteaders\nThose looking to become more self-sufficient in producing a crop\n\nWhat will you learn? \n\nBasics of soil fertility\nLocating a good site for your garden or orchard\nSetting up a garden
URL:https://www.growtogetherberks.com/event/living-on-a-few-acres-soil-fertility-and-garden-layout-webinar/
LOCATION:Virtual
ATTACH;FMTTYPE=image/png:https://www.growtogetherberks.com/wp-content/uploads/2023/03/Soil-Fertility.png
END:VEVENT
BEGIN:VEVENT
DTSTART;TZID=America/New_York:20230301T000000
DTEND;TZID=America/New_York:20230515T233000
DTSTAMP:20260421T184400
CREATED:20230322T144055Z
LAST-MODIFIED:20230322T144055Z
UID:10000098-1677628800-1684193400@www.growtogetherberks.com
SUMMARY:Farm Sense Learn to create a cash flow statement\, balance sheet\, and income statement for agricultural businesses. Meet Farm Service Agency borrower training requirements.
DESCRIPTION:Skill Level: Beginner\nSections: 4\nLength: 14 hours\nLanguage: English\nNote: This course is an approved USDA Farm Service Agency borrower training. \nRegistration deadline: March 28\, 2023\, 11:59 a.m. EST \nThis course begins March 1\, 2023 and runs through May 15\, 2023. Registration closes on March 28. \nAgricultural businesses are different from other types of businesses\, and producers need to develop and maintain accurate\, consistent financial and production records. Farm Sense satisfies requirements for the production and financial training modules for Pennsylvania borrowers of the USDA Farm Service Agency Borrower Training. \nHowever\, the course is open to anyone involved in agricultural business. In this instructor-led course\, you will gain a better understanding of cash management\, net worth\, profit and loss\, budgeting\, risk management\, and production planning through readings\, educational videos\, and practice questions. You will create a cash flow statement\, balance sheet\, and income statement\, and will use these documents to determine your business’s liquidity\, solvency\, and profitability. The course instructor will review your financial documents and offer advice on how to improve them. \nYou will find a schedule in the course to help guide you through the course\, and an instructor will regularly check in regarding your progress through the course. \nYour work must be completed between March 1\, 2023 and May 15\, 2023. In order to receive your FSA letter\, you need to complete all financial documents\, quizzes\, and the complete the borrower training statement. Your course work must be completed by May 15\, 2023. \nAs you take Farm Sense\, you will work through weekly and biweekly lessons. Read through the materials and watch the videos. When prompted\, take a moment to review your learning by answering Check Your Learning questions. Much of your time will be spent working on your own financial documents. \nTo pass the course\, earn a certificate of completion\, and qualify for USDA Farm Service Agency borrower training\, you must: \npass the section quizzes with a 70 percent overall score\ndemonstrate the ability to build a cash flow statement\, balance sheet\, and income statement for your business\ncalculate mathematical formulas that show your business’ liquidity\, solvency\, and profitability\ncomplete the FSA Borrower Training Course evaluation survey \nWho is this for? \n\nUSDA Farm Service Agency borrowers\nAgricultural businesses\nAnyone interested in developing financial statements\n\nYou will learn how to: \n\nbuild a cash flow statement\, balance sheet\, and income statement\norganize and use financial records to make informed financial and production decisions\nuse financial ratios to determine your business’ financial strength\ncreate a partial budget to examine whether an opportunity or change has the potential to be profitable
URL:https://www.growtogetherberks.com/event/farm-sense-learn-to-create-a-cash-flow-statement-balance-sheet-and-income-statement-for-agricultural-businesses-meet-farm-service-agency-borrower-training-requirements/
LOCATION:Online\, United States
ATTACH;FMTTYPE=image/png:https://www.growtogetherberks.com/wp-content/uploads/2023/03/Farm-Sense.png
END:VEVENT
END:VCALENDAR