BEGIN:VCALENDAR
VERSION:2.0
PRODID:-//Grow Together - ECPv6.13.2.1//NONSGML v1.0//EN
CALSCALE:GREGORIAN
METHOD:PUBLISH
X-WR-CALNAME:Grow Together
X-ORIGINAL-URL:https://www.growtogetherberks.com
X-WR-CALDESC:Events for Grow Together
REFRESH-INTERVAL;VALUE=DURATION:PT1H
X-Robots-Tag:noindex
X-PUBLISHED-TTL:PT1H
BEGIN:VTIMEZONE
TZID:America/New_York
BEGIN:DAYLIGHT
TZOFFSETFROM:-0500
TZOFFSETTO:-0400
TZNAME:EDT
DTSTART:20240310T070000
END:DAYLIGHT
BEGIN:STANDARD
TZOFFSETFROM:-0400
TZOFFSETTO:-0500
TZNAME:EST
DTSTART:20241103T060000
END:STANDARD
END:VTIMEZONE
BEGIN:VEVENT
DTSTART;TZID=America/New_York:20240119T120000
DTEND;TZID=America/New_York:20240119T133000
DTSTAMP:20260421T062419
CREATED:20231207T164854Z
LAST-MODIFIED:20231207T164854Z
UID:10000596-1705665600-1705671000@www.growtogetherberks.com
SUMMARY:Bacon Flights at The Winery in Breinigsville
DESCRIPTION:Clover Hill and longtime friends\, K’Town Pub\, present the perfect pairing\, a party for your palate: wine and bacon flights at our Breinigsville location.\nFlights will include four\, 2 oz. pours of Clover Hill wine\, specially selected to pair with samples of four different flavors of bacon provided by the BBQ masters at K’Town Pub. Stay tuned to find out what flavors of bacon these meat masterminds come up with!\nReservations are required. Space is limited. Bacon Flight tickets make perfect holiday gifts that are sure to thrill your favorite bacon lover. Call 610-395-2468 to purchase.\n$30 per ticket.\nChoose a day and time:\nJan. 19-21\, 2024\nNoon-1:30 p.m. or 2:30 p.m.-4 p.m. each day
URL:https://www.growtogetherberks.com/event/bacon-flights-at-the-winery-in-breinigsville/2024-01-19/1/
LOCATION:Clover Hill Vineyard & Winery\, 9850 Newtown Rd\, Breinigsville\, PA\, 18031\, United States
ATTACH;FMTTYPE=image/jpeg:https://www.growtogetherberks.com/wp-content/uploads/2023/12/Bacon-Flights.jpg
ORGANIZER;CN="Clover Hill Vineyard &amp%3B Winery":MAILTO:info@cloverhillwinery.com
END:VEVENT
END:VCALENDAR